BEGIN:VCALENDAR
VERSION:2.0
PRODID:-//www.ketchikanarts.org//NONSGML kigkonsult.se iCalcreator 2.30.10/
 /
CALSCALE:GREGORIAN
METHOD:PUBLISH
UID:5cdccacb-3510-4949-bbd8-e14edba824b6
X-WR-CALDESC:Emily will select pages to read from the book she has beautifu
 lly written titled ‘Proud Raven\, Panting Wolf Carving Alaska’s New Deal T
 otem Parks’ and be available for signing. Please attend and bring a friend
  or cousin!
X-WR-RELCALID:a5a772167384023a55b63a18267bf4ba
X-WR-TIMEZONE:America/Anchorage
BEGIN:VTIMEZONE
TZID:America/Anchorage
BEGIN:STANDARD
TZNAME:AKST
DTSTART:20181104T020000
TZOFFSETFROM:-0800
TZOFFSETTO:-0900
RDATE:20191103T020000
RDATE:20201101T020000
END:STANDARD
BEGIN:DAYLIGHT
TZNAME:AKDT
DTSTART:20190310T020000
TZOFFSETFROM:-0900
TZOFFSETTO:-0800
RDATE:20200308T020000
END:DAYLIGHT
END:VTIMEZONE
BEGIN:VEVENT
UID:17497e0a-c1d2-4552-b9af-b20a266cca2c
DTSTAMP:20260422T142641Z
DESCRIPTION:Emily will select pages to read from the book she has beautiful
 ly written titled ‘Proud Raven\, Panting Wolf Carving Alaska’s New Deal To
 tem Parks’ and be available for signing. Please attend and bring a friend 
 or cousin!
DTSTART;TZID=America/Anchorage:20190712T120000
DTEND;TZID=America/Anchorage:20190712T130000
LOCATION:Kooteeyaa Koffee
SUMMARY:Book Signing Author Emily L. Moore
END:VEVENT
END:VCALENDAR
