BEGIN:VCALENDAR
VERSION:2.0
PRODID:-//www.ketchikanarts.org//NONSGML kigkonsult.se iCalcreator 2.30.10/
 /
CALSCALE:GREGORIAN
METHOD:PUBLISH
UID:75d862a7-c231-4220-a469-b4731deee1aa
X-WR-CALDESC:Dance to live calling and music from the Free Radicals!  Don't
  need to know how all dances are taught! Grab a partner and let's do-si-do
 !
X-WR-RELCALID:dde67c83502cec35cbdb52c5d8002d6d
X-WR-TIMEZONE:America/Anchorage
BEGIN:VTIMEZONE
TZID:America/Anchorage
BEGIN:STANDARD
TZNAME:AKST
DTSTART:20181104T020000
TZOFFSETFROM:-0800
TZOFFSETTO:-0900
RDATE:20191103T020000
RDATE:20201101T020000
END:STANDARD
BEGIN:DAYLIGHT
TZNAME:AKDT
DTSTART:20190310T020000
TZOFFSETFROM:-0900
TZOFFSETTO:-0800
RDATE:20200308T020000
END:DAYLIGHT
END:VTIMEZONE
BEGIN:VEVENT
UID:a7e9b4c7-3c9f-4436-b07c-11cce44851af
DTSTAMP:20260422T142450Z
DESCRIPTION:Dance to live calling and music from the Free Radicals!  Don't 
 need to know how all dances are taught! Grab a partner and let's do-si-do!
DTSTART;TZID=America/Anchorage:20190712T190000
DTEND;TZID=America/Anchorage:20190712T210000
LOCATION:Creek Street Cabaret
SUMMARY:Alaska Square Dance
END:VEVENT
END:VCALENDAR
