BEGIN:VCALENDAR
VERSION:2.0
PRODID:-//www.ketchikanarts.org//NONSGML kigkonsult.se iCalcreator 2.30.10/
 /
CALSCALE:GREGORIAN
METHOD:PUBLISH
UID:d8922dd7-058c-4c93-904f-e49471b5b523
X-WR-CALDESC:The Austin Hays Trio perform Jazz in the morning! Sometimes th
 ey are joined by drop-in musicians who work on the Cruise Ships.
X-WR-RELCALID:a1dd7668e084d1ea7b955d53c37e2b24
X-WR-TIMEZONE:America/Anchorage
BEGIN:VTIMEZONE
TZID:America/Anchorage
BEGIN:STANDARD
TZNAME:AKST
DTSTART:20181104T020000
TZOFFSETFROM:-0800
TZOFFSETTO:-0900
RDATE:20191103T020000
RDATE:20201101T020000
END:STANDARD
BEGIN:DAYLIGHT
TZNAME:AKDT
DTSTART:20190310T020000
TZOFFSETFROM:-0900
TZOFFSETTO:-0800
RDATE:20200308T020000
END:DAYLIGHT
END:VTIMEZONE
BEGIN:VEVENT
UID:af775b1f-5794-4141-8dab-d0c6f9b6c83d
DTSTAMP:20260422T143838Z
DESCRIPTION:The Austin Hays Trio perform Jazz in the morning! Sometimes the
 y are joined by drop-in musicians who work on the Cruise Ships.
DTSTART;TZID=America/Anchorage:20190712T093000
DTEND;TZID=America/Anchorage:20190712T113000
LOCATION:Creek Street Cabaret
SUMMARY:Austin Hays Trio
END:VEVENT
END:VCALENDAR
