BEGIN:VCALENDAR
VERSION:2.0
PRODID:-//www.ketchikanarts.org//NONSGML kigkonsult.se iCalcreator 2.30.10/
 /
CALSCALE:GREGORIAN
METHOD:PUBLISH
UID:54bf9e49-eb8f-47a6-bc45-c32c7fa58187
X-WR-CALDESC:The City of Ketchikan Presents Music on the Dock!\n2019 Summer
  concert series\nRain or shine bring a lunch and enjoy a noontime concert!
 !\nSunny days Berth 2\,\nrainy days Berth 3 shelter.
X-WR-RELCALID:2211b6bcdc625fd6ee2abf159a7d8c3c
X-WR-TIMEZONE:America/Anchorage
BEGIN:VTIMEZONE
TZID:America/Anchorage
BEGIN:STANDARD
TZNAME:AKST
DTSTART:20181104T020000
TZOFFSETFROM:-0800
TZOFFSETTO:-0900
RDATE:20191103T020000
RDATE:20201101T020000
END:STANDARD
BEGIN:DAYLIGHT
TZNAME:AKDT
DTSTART:20190310T020000
TZOFFSETFROM:-0900
TZOFFSETTO:-0800
RDATE:20200308T020000
END:DAYLIGHT
END:VTIMEZONE
BEGIN:VEVENT
UID:66e47f55-0256-4b86-a872-d5400799c34c
DTSTAMP:20260422T142518Z
DESCRIPTION:The City of Ketchikan Presents Music on the Dock!\n2019 Summer 
 concert series\nRain or shine bring a lunch and enjoy a noontime concert!!
 \nSunny days Berth 2\,\nrainy days Berth 3 shelter.
DTSTART;TZID=America/Anchorage:20190711T120000
DTEND;TZID=America/Anchorage:20190711T130000
LOCATION:Berth 2 or Berth 3
SUMMARY:Banjo Apocalypse
END:VEVENT
END:VCALENDAR
