BEGIN:VCALENDAR
VERSION:2.0
PRODID:-//www.ketchikanarts.org//NONSGML kigkonsult.se iCalcreator 2.30.10/
 /
CALSCALE:GREGORIAN
METHOD:PUBLISH
UID:67f59170-7fa3-4410-8b37-773e010741fb
X-WR-CALDESC:Join Dave Rubin\, guitar\, Hannah Karrick\, violin\, and Chazz
  Gist\, bass\, at the Cape Fox Lodge for your listening pleasure.
X-WR-RELCALID:600fed238b93140b3e4e15190b0e7054
X-WR-TIMEZONE:America/Anchorage
BEGIN:VTIMEZONE
TZID:America/Anchorage
BEGIN:STANDARD
TZNAME:AKST
DTSTART:20181104T020000
TZOFFSETFROM:-0800
TZOFFSETTO:-0900
RDATE:20191103T020000
RDATE:20201101T020000
END:STANDARD
BEGIN:DAYLIGHT
TZNAME:AKDT
DTSTART:20190310T020000
TZOFFSETFROM:-0900
TZOFFSETTO:-0800
RDATE:20200308T020000
END:DAYLIGHT
END:VTIMEZONE
BEGIN:VEVENT
UID:74430afd-fb2a-4f47-bdef-9b051ee18b5d
DTSTAMP:20260422T143703Z
DESCRIPTION:Join Dave Rubin\, guitar\, Hannah Karrick\, violin\, and Chazz 
 Gist\, bass\, at the Cape Fox Lodge for your listening pleasure.
DTSTART;TZID=America/Anchorage:20190711T170000
DTEND;TZID=America/Anchorage:20190711T203000
LOCATION:Cape Fox Lodge
SUMMARY:Dave\, Hannah\, and Chaz
END:VEVENT
END:VCALENDAR
