BEGIN:VCALENDAR
VERSION:2.0
PRODID:-//www.ketchikanarts.org//NONSGML kigkonsult.se iCalcreator 2.30.10/
 /
CALSCALE:GREGORIAN
METHOD:PUBLISH
UID:d38ae0fa-d647-4d32-8d6f-0a4fbbada829
X-WR-CALDESC:A wonderful Magician entertains Ketchikan Straight off a Cruis
 e Ship\, Every Monday through September! Come enjoy a magical treat over y
 our lunch hour! Free
X-WR-RELCALID:ae694378173466477738e83dc85baa78
X-WR-TIMEZONE:America/Anchorage
BEGIN:VTIMEZONE
TZID:America/Anchorage
BEGIN:STANDARD
TZNAME:AKST
DTSTART:20181104T020000
TZOFFSETFROM:-0800
TZOFFSETTO:-0900
RDATE:20191103T020000
RDATE:20201101T020000
END:STANDARD
BEGIN:DAYLIGHT
TZNAME:AKDT
DTSTART:20190310T020000
TZOFFSETFROM:-0900
TZOFFSETTO:-0800
RDATE:20200308T020000
END:DAYLIGHT
END:VTIMEZONE
BEGIN:VEVENT
UID:243bb019-79b1-48d6-9b0b-737f7173bc82
DTSTAMP:20260422T142806Z
DESCRIPTION:A wonderful Magician entertains Ketchikan Straight off a Cruise
  Ship\, Every Monday through September! Come enjoy a magical treat over yo
 ur lunch hour! Free
DTSTART;TZID=America/Anchorage:20190708T120000
DTEND;TZID=America/Anchorage:20190708T130000
LOCATION:Creek Street Cabaret
SUMMARY:Magician
END:VEVENT
END:VCALENDAR
