BEGIN:VCALENDAR
VERSION:2.0
PRODID:-//www.ketchikanarts.org//NONSGML kigkonsult.se iCalcreator 2.30.10/
 /
CALSCALE:GREGORIAN
METHOD:PUBLISH
UID:05ffa6f9-b7f0-4d61-ad06-d611b7b59925
X-WR-CALDESC:The City of Ketchikan Presents Music on the Dock!\n2019 Summer
  concert series\nRain or shine bring a lunch and enjoy a noontime concert!
 !\nSunny days Berth 2\,\nrainy days Berth 3 shelter.
X-WR-RELCALID:cb953327bf242be4f9da71b9284e598c
X-WR-TIMEZONE:America/Anchorage
BEGIN:VTIMEZONE
TZID:America/Anchorage
BEGIN:STANDARD
TZNAME:AKST
DTSTART:20181104T020000
TZOFFSETFROM:-0800
TZOFFSETTO:-0900
RDATE:20191103T020000
RDATE:20201101T020000
END:STANDARD
BEGIN:DAYLIGHT
TZNAME:AKDT
DTSTART:20190310T020000
TZOFFSETFROM:-0900
TZOFFSETTO:-0800
RDATE:20200308T020000
END:DAYLIGHT
END:VTIMEZONE
BEGIN:VEVENT
UID:c438d082-9083-4583-baeb-9b2f1f58c113
DTSTAMP:20260422T144223Z
DESCRIPTION:The City of Ketchikan Presents Music on the Dock!\n2019 Summer 
 concert series\nRain or shine bring a lunch and enjoy a noontime concert!!
 \nSunny days Berth 2\,\nrainy days Berth 3 shelter.
DTSTART;TZID=America/Anchorage:20190708T120000
DTEND;TZID=America/Anchorage:20190708T130000
LOCATION:Berth 2\, or Berth 3
SUMMARY:Free Radicals
END:VEVENT
END:VCALENDAR
