BEGIN:VCALENDAR
VERSION:2.0
PRODID:-//www.ketchikanarts.org//NONSGML kigkonsult.se iCalcreator 2.30.10/
 /
CALSCALE:GREGORIAN
METHOD:PUBLISH
UID:3182b001-81e7-486d-bf14-c9d45ddcd628
X-WR-CALDESC:Obvious Jazz\, Rob Holston and his array of instruments will b
 e playing throughout the summer at Salmon Falls Resort. Enjoy a romantic e
 vening and a trip down memory lane with his tributes to Frank Sinatra. Eve
 ry Saturday evening.
X-WR-RELCALID:366b1cfd0b927b554a48f62da6df2c8d
X-WR-TIMEZONE:America/Anchorage
BEGIN:VTIMEZONE
TZID:America/Anchorage
BEGIN:STANDARD
TZNAME:AKST
DTSTART:20181104T020000
TZOFFSETFROM:-0800
TZOFFSETTO:-0900
RDATE:20191103T020000
RDATE:20201101T020000
END:STANDARD
BEGIN:DAYLIGHT
TZNAME:AKDT
DTSTART:20190310T020000
TZOFFSETFROM:-0900
TZOFFSETTO:-0800
RDATE:20200308T020000
END:DAYLIGHT
END:VTIMEZONE
BEGIN:VEVENT
UID:9a125e61-3907-4173-938f-e699b1107e88
DTSTAMP:20260422T142449Z
DESCRIPTION:Obvious Jazz\, Rob Holston and his array of instruments will be
  playing throughout the summer at Salmon Falls Resort. Enjoy a romantic ev
 ening and a trip down memory lane with his tributes to Frank Sinatra. Ever
 y Saturday evening.
DTSTART;TZID=America/Anchorage:20190706T180000
DTEND;TZID=America/Anchorage:20190706T210000
LOCATION:Salmon Falls Resort
SUMMARY:Obvious Jazz Performs!
END:VEVENT
END:VCALENDAR
