BEGIN:VCALENDAR
VERSION:2.0
PRODID:-//www.ketchikanarts.org//NONSGML kigkonsult.se iCalcreator 2.30.10/
 /
CALSCALE:GREGORIAN
METHOD:PUBLISH
UID:dde42429-f544-47af-9717-f66052a3b8dd
X-WR-CALDESC:1.776 miles and $10 entry
X-WR-RELCALID:714ce64a343ff7aecb014e6f4e1a62cc
X-WR-TIMEZONE:America/Anchorage
BEGIN:VTIMEZONE
TZID:America/Anchorage
BEGIN:STANDARD
TZNAME:AKST
DTSTART:20181104T020000
TZOFFSETFROM:-0800
TZOFFSETTO:-0900
RDATE:20191103T020000
RDATE:20201101T020000
END:STANDARD
BEGIN:DAYLIGHT
TZNAME:AKDT
DTSTART:20190310T020000
TZOFFSETFROM:-0900
TZOFFSETTO:-0800
RDATE:20200308T020000
END:DAYLIGHT
END:VTIMEZONE
BEGIN:VEVENT
UID:7118e239-7dde-4d1a-b5e3-8b0d66d40b10
DTSTAMP:20260422T142448Z
DESCRIPTION:1.776 miles and $10 entry
DTSTART;TZID=America/Anchorage:20190704T133000
DTEND;TZID=America/Anchorage:20190704T143000
LOCATION:Madison Hardware
SUMMARY:Run Like It's 1776
END:VEVENT
END:VCALENDAR
