BEGIN:VCALENDAR
VERSION:2.0
PRODID:-//www.ketchikanarts.org//NONSGML kigkonsult.se iCalcreator 2.30.10/
 /
CALSCALE:GREGORIAN
METHOD:PUBLISH
UID:0b07eadd-dccb-445c-894f-0d088b0c0560
X-WR-CALDESC:Join Dave Rubin\, guitar\, Hannah Karrick\, violin\, and Chazz
  Gist\, bass\, at the Cape Fox Lodge for your listening pleasure.
X-WR-RELCALID:1f832701f3949194a8d3ccbd3c6af0d9
X-WR-TIMEZONE:America/Anchorage
BEGIN:VTIMEZONE
TZID:America/Anchorage
BEGIN:STANDARD
TZNAME:AKST
DTSTART:20181104T020000
TZOFFSETFROM:-0800
TZOFFSETTO:-0900
RDATE:20191103T020000
RDATE:20201101T020000
END:STANDARD
BEGIN:DAYLIGHT
TZNAME:AKDT
DTSTART:20190310T020000
TZOFFSETFROM:-0900
TZOFFSETTO:-0800
RDATE:20200308T020000
END:DAYLIGHT
END:VTIMEZONE
BEGIN:VEVENT
UID:3f2460dd-6796-4eee-930b-c3d295c9120b
DTSTAMP:20260422T144223Z
DESCRIPTION:Join Dave Rubin\, guitar\, Hannah Karrick\, violin\, and Chazz 
 Gist\, bass\, at the Cape Fox Lodge for your listening pleasure.
DTSTART;TZID=America/Anchorage:20190704T170000
DTEND;TZID=America/Anchorage:20190704T203000
LOCATION:Cape Fox Lodge
SUMMARY:Dave\, Hannah\, and Chaz
END:VEVENT
END:VCALENDAR
