BEGIN:VCALENDAR
VERSION:2.0
PRODID:-//www.ketchikanarts.org//NONSGML kigkonsult.se iCalcreator 2.30.10/
 /
CALSCALE:GREGORIAN
METHOD:PUBLISH
UID:7c41422f-3b88-42a9-8c35-ee541dd4d7ab
X-WR-CALDESC:Free Manga Drawing Class for Kids\, with instructor Ema Oshima
 . Supplies provided\, please call 225-3331 for more information.
X-WR-RELCALID:46a55aeb3948f363d1d2115c45123d5f
X-WR-TIMEZONE:America/Anchorage
BEGIN:VTIMEZONE
TZID:America/Anchorage
BEGIN:STANDARD
TZNAME:AKST
DTSTART:20181104T020000
TZOFFSETFROM:-0800
TZOFFSETTO:-0900
RDATE:20191103T020000
RDATE:20201101T020000
END:STANDARD
BEGIN:DAYLIGHT
TZNAME:AKDT
DTSTART:20190310T020000
TZOFFSETFROM:-0900
TZOFFSETTO:-0800
RDATE:20200308T020000
END:DAYLIGHT
END:VTIMEZONE
BEGIN:VEVENT
UID:5f800106-b2b6-4edb-acf7-44694fdb160e
DTSTAMP:20260422T143420Z
DESCRIPTION:Free Manga Drawing Class for Kids\, with instructor Ema Oshima.
  Supplies provided\, please call 225-3331 for more information.
DTSTART;TZID=America/Anchorage:20190701T153000
DTEND;TZID=America/Anchorage:20190701T163000
LOCATION:Ketchikan Public Library
SUMMARY:Manga Drawing Class
END:VEVENT
END:VCALENDAR
