BEGIN:VCALENDAR
VERSION:2.0
PRODID:-//www.ketchikanarts.org//NONSGML kigkonsult.se iCalcreator 2.30.10/
 /
CALSCALE:GREGORIAN
METHOD:PUBLISH
UID:95041fc4-746f-449e-96f9-5de27006f6c9
X-WR-CALDESC:A Feisty Band from Takilma\, Oregon.\nYou don’t want to miss t
 his show - One Night Only! Funky\, Folky\, Fun and Danceable! Enjoy cockta
 ils\, wine\, and local beer\, $5 cover at the door.  21and over must be ac
 companied by a parent or legal guardian.\n \n
X-WR-RELCALID:5084ad683491d0cf5daa668a1f59c578
X-WR-TIMEZONE:America/Anchorage
BEGIN:VTIMEZONE
TZID:America/Anchorage
BEGIN:STANDARD
TZNAME:AKST
DTSTART:20181104T020000
TZOFFSETFROM:-0800
TZOFFSETTO:-0900
RDATE:20191103T020000
RDATE:20201101T020000
END:STANDARD
BEGIN:DAYLIGHT
TZNAME:AKDT
DTSTART:20190310T020000
TZOFFSETFROM:-0900
TZOFFSETTO:-0800
RDATE:20200308T020000
END:DAYLIGHT
END:VTIMEZONE
BEGIN:VEVENT
UID:44a976c5-914a-4fa6-9b1a-1b73506cb40a
DTSTAMP:20260422T155058Z
DESCRIPTION:A Feisty Band from Takilma\, Oregon.\nYou don’t want to miss th
 is show - One Night Only! Funky\, Folky\, Fun and Danceable! Enjoy cocktai
 ls\, wine\, and local beer\, $5 cover at the door.  21and over must be acc
 ompanied by a parent or legal guardian.\n \n
DTSTART;TZID=America/Anchorage:20190630T193000
DTEND;TZID=America/Anchorage:20190630T213000
LOCATION:Creek Street Cabaret
SUMMARY:Fire your Boss
END:VEVENT
END:VCALENDAR
