BEGIN:VCALENDAR
VERSION:2.0
PRODID:-//www.ketchikanarts.org//NONSGML kigkonsult.se iCalcreator 2.30.10/
 /
CALSCALE:GREGORIAN
METHOD:PUBLISH
UID:0c7aa6ec-103a-45a0-926c-c642bc4e528c
X-WR-CALDESC:The Austin Hays Trio perform Jazz in the morning! Sometimes th
 ey are joined by drop-in musicians who work on the Cruise Ships.
X-WR-RELCALID:1f113faa81f0fd692307aaa8874d3c67
X-WR-TIMEZONE:America/Anchorage
BEGIN:VTIMEZONE
TZID:America/Anchorage
BEGIN:STANDARD
TZNAME:AKST
DTSTART:20181104T020000
TZOFFSETFROM:-0800
TZOFFSETTO:-0900
RDATE:20191103T020000
RDATE:20201101T020000
END:STANDARD
BEGIN:DAYLIGHT
TZNAME:AKDT
DTSTART:20190310T020000
TZOFFSETFROM:-0900
TZOFFSETTO:-0800
RDATE:20200308T020000
END:DAYLIGHT
END:VTIMEZONE
BEGIN:VEVENT
UID:0760812a-1581-4c5d-b095-e6242949e608
DTSTAMP:20260422T160117Z
DESCRIPTION:The Austin Hays Trio perform Jazz in the morning! Sometimes the
 y are joined by drop-in musicians who work on the Cruise Ships.
DTSTART;TZID=America/Anchorage:20190628T093000
DTEND;TZID=America/Anchorage:20190628T113000
LOCATION:Creek Street Cabaret
SUMMARY:Austin Hays Trio
END:VEVENT
END:VCALENDAR
