BEGIN:VCALENDAR
VERSION:2.0
PRODID:-//www.ketchikanarts.org//NONSGML kigkonsult.se iCalcreator 2.30.10/
 /
CALSCALE:GREGORIAN
METHOD:PUBLISH
UID:2dce0015-862d-42c7-a24a-5427a9f11693
X-WR-CALDESC:Shelly Hill\, licensed yoga instructor\, takes you through an 
 artful\, mindful\, 1-hour yoga session. in the beautiful ambiance of the M
 ain Street Gallery $5
X-WR-RELCALID:cc45bf90b03526d27b16133f7cd599a1
X-WR-TIMEZONE:America/Anchorage
BEGIN:VTIMEZONE
TZID:America/Anchorage
BEGIN:STANDARD
TZNAME:AKST
DTSTART:20181104T020000
TZOFFSETFROM:-0800
TZOFFSETTO:-0900
RDATE:20191103T020000
RDATE:20201101T020000
END:STANDARD
BEGIN:DAYLIGHT
TZNAME:AKDT
DTSTART:20190310T020000
TZOFFSETFROM:-0900
TZOFFSETTO:-0800
RDATE:20200308T020000
END:DAYLIGHT
END:VTIMEZONE
BEGIN:VEVENT
UID:bbb07f27-85aa-4fb1-b2d5-cb2029ec3636
DTSTAMP:20260422T161056Z
DESCRIPTION:Shelly Hill\, licensed yoga instructor\, takes you through an a
 rtful\, mindful\, 1-hour yoga session. in the beautiful ambiance of the Ma
 in Street Gallery $5
DTSTART;TZID=America/Anchorage:20190627T173000
DTEND;TZID=America/Anchorage:20190627T183000
LOCATION:Main Street Gallery
SUMMARY:Artful Yoga
END:VEVENT
END:VCALENDAR
