BEGIN:VCALENDAR
VERSION:2.0
PRODID:-//www.ketchikanarts.org//NONSGML kigkonsult.se iCalcreator 2.30.10/
 /
CALSCALE:GREGORIAN
METHOD:PUBLISH
UID:e8b63d6c-e8d0-4bc9-9cc2-1a432008b8d6
X-WR-CALDESC:Join Dave Rubin\, guitar\, Hannah Karrick\, violin\, and Chazz
  Gist\, bass\, at the Cape Fox Lodge for your listening pleasure.
X-WR-RELCALID:b85583cf060d5c480a857fc4b85932b6
X-WR-TIMEZONE:America/Anchorage
BEGIN:VTIMEZONE
TZID:America/Anchorage
BEGIN:STANDARD
TZNAME:AKST
DTSTART:20181104T020000
TZOFFSETFROM:-0800
TZOFFSETTO:-0900
RDATE:20191103T020000
RDATE:20201101T020000
END:STANDARD
BEGIN:DAYLIGHT
TZNAME:AKDT
DTSTART:20190310T020000
TZOFFSETFROM:-0900
TZOFFSETTO:-0800
RDATE:20200308T020000
END:DAYLIGHT
END:VTIMEZONE
BEGIN:VEVENT
UID:9d4dfe9b-0da7-4d59-814e-b20a7830f83c
DTSTAMP:20260422T161235Z
DESCRIPTION:Join Dave Rubin\, guitar\, Hannah Karrick\, violin\, and Chazz 
 Gist\, bass\, at the Cape Fox Lodge for your listening pleasure.
DTSTART;TZID=America/Anchorage:20190627T170000
DTEND;TZID=America/Anchorage:20190627T203000
LOCATION:Cape Fox Lodge
SUMMARY:Dave\, Hannah\, and Chaz
END:VEVENT
END:VCALENDAR
