BEGIN:VCALENDAR
VERSION:2.0
PRODID:-//www.ketchikanarts.org//NONSGML kigkonsult.se iCalcreator 2.30.10/
 /
CALSCALE:GREGORIAN
METHOD:PUBLISH
UID:2bd5bee5-d5c8-4234-90fd-c52ebeb75ae0
X-WR-CALDESC:The Austin Hays Trio perform Jazz in the morning! Sometimes th
 ey are joined by drop-in musicians who work on the Cruise Ships.
X-WR-RELCALID:4fabeb340515caf0c28c6586a9f941f5
X-WR-TIMEZONE:America/Anchorage
BEGIN:VTIMEZONE
TZID:America/Anchorage
BEGIN:STANDARD
TZNAME:AKST
DTSTART:20181104T020000
TZOFFSETFROM:-0800
TZOFFSETTO:-0900
RDATE:20191103T020000
RDATE:20201101T020000
END:STANDARD
BEGIN:DAYLIGHT
TZNAME:AKDT
DTSTART:20190310T020000
TZOFFSETFROM:-0900
TZOFFSETTO:-0800
RDATE:20200308T020000
END:DAYLIGHT
END:VTIMEZONE
BEGIN:VEVENT
UID:adac687c-1c91-45cf-a294-16e8a4f7922f
DTSTAMP:20260422T161355Z
DESCRIPTION:The Austin Hays Trio perform Jazz in the morning! Sometimes the
 y are joined by drop-in musicians who work on the Cruise Ships.
DTSTART;TZID=America/Anchorage:20190627T093000
DTEND;TZID=America/Anchorage:20190627T113000
LOCATION:Creek Street Cabaret
SUMMARY:Austin Hays Trio
END:VEVENT
END:VCALENDAR
