BEGIN:VCALENDAR
VERSION:2.0
PRODID:-//www.ketchikanarts.org//NONSGML kigkonsult.se iCalcreator 2.30.10/
 /
CALSCALE:GREGORIAN
METHOD:PUBLISH
UID:4b81e040-b192-4ac1-9323-223781ce4751
X-WR-CALDESC:Free Manga Drawing Class with instructor Ema Oshima. Supplies 
 provided. Call 225-3331 for more information.
X-WR-RELCALID:6eb26ea21a77880451519a4c4fd6be10
X-WR-TIMEZONE:America/Anchorage
BEGIN:VTIMEZONE
TZID:America/Anchorage
BEGIN:STANDARD
TZNAME:AKST
DTSTART:20181104T020000
TZOFFSETFROM:-0800
TZOFFSETTO:-0900
RDATE:20191103T020000
RDATE:20201101T020000
END:STANDARD
BEGIN:DAYLIGHT
TZNAME:AKDT
DTSTART:20190310T020000
TZOFFSETFROM:-0900
TZOFFSETTO:-0800
RDATE:20200308T020000
END:DAYLIGHT
END:VTIMEZONE
BEGIN:VEVENT
UID:3857bfdd-c029-46ef-9b14-a6ee1050b691
DTSTAMP:20260422T155848Z
DESCRIPTION:Free Manga Drawing Class with instructor Ema Oshima. Supplies p
 rovided. Call 225-3331 for more information.
DTSTART;TZID=America/Anchorage:20190624T163000
DTEND;TZID=America/Anchorage:20190624T173000
LOCATION:Ketchikan Public Library
SUMMARY:Manga Drawing Class Adult
END:VEVENT
END:VCALENDAR
