BEGIN:VCALENDAR
VERSION:2.0
PRODID:-//www.ketchikanarts.org//NONSGML kigkonsult.se iCalcreator 2.30.10/
 /
CALSCALE:GREGORIAN
METHOD:PUBLISH
UID:821b8b7d-9fb4-40c5-be49-136fc2b27207
X-WR-CALDESC:Free Manga Drawing Class for Kids\, with instructor Ema Oshima
 . Supplies provided\, please call 225-3331 for more information.
X-WR-RELCALID:29e1dca8ccb3765857d8f22782566d80
X-WR-TIMEZONE:America/Anchorage
BEGIN:VTIMEZONE
TZID:America/Anchorage
BEGIN:STANDARD
TZNAME:AKST
DTSTART:20181104T020000
TZOFFSETFROM:-0800
TZOFFSETTO:-0900
RDATE:20191103T020000
RDATE:20201101T020000
END:STANDARD
BEGIN:DAYLIGHT
TZNAME:AKDT
DTSTART:20190310T020000
TZOFFSETFROM:-0900
TZOFFSETTO:-0800
RDATE:20200308T020000
END:DAYLIGHT
END:VTIMEZONE
BEGIN:VEVENT
UID:e9d5074c-b27b-47cc-bf18-41a3ebf28ead
DTSTAMP:20260422T155515Z
DESCRIPTION:Free Manga Drawing Class for Kids\, with instructor Ema Oshima.
  Supplies provided\, please call 225-3331 for more information.
DTSTART;TZID=America/Anchorage:20190624T153000
DTEND;TZID=America/Anchorage:20190624T163000
LOCATION:Ketchikan Public Library
SUMMARY:Manga Drawing Class
END:VEVENT
END:VCALENDAR
