BEGIN:VCALENDAR
VERSION:2.0
PRODID:-//www.ketchikanarts.org//NONSGML kigkonsult.se iCalcreator 2.30.10/
 /
CALSCALE:GREGORIAN
METHOD:PUBLISH
UID:f6eeacc9-d30f-46fa-adf2-012e6a022755
X-WR-CALDESC:A wonderful Magician entertains Ketchikan Straight off a Cruis
 e Ship\, Every Monday through September! Come enjoy a magical treat over y
 our lunch hour! Free
X-WR-RELCALID:43ad325484a12b0b070755117bd25736
X-WR-TIMEZONE:America/Anchorage
BEGIN:VTIMEZONE
TZID:America/Anchorage
BEGIN:STANDARD
TZNAME:AKST
DTSTART:20181104T020000
TZOFFSETFROM:-0800
TZOFFSETTO:-0900
RDATE:20191103T020000
RDATE:20201101T020000
END:STANDARD
BEGIN:DAYLIGHT
TZNAME:AKDT
DTSTART:20190310T020000
TZOFFSETFROM:-0900
TZOFFSETTO:-0800
RDATE:20200308T020000
END:DAYLIGHT
END:VTIMEZONE
BEGIN:VEVENT
UID:9a76dd29-6ce8-44d2-9e01-560b955f8bac
DTSTAMP:20260422T155536Z
DESCRIPTION:A wonderful Magician entertains Ketchikan Straight off a Cruise
  Ship\, Every Monday through September! Come enjoy a magical treat over yo
 ur lunch hour! Free
DTSTART;TZID=America/Anchorage:20190624T120000
DTEND;TZID=America/Anchorage:20190624T130000
LOCATION:Creek Street Cabaret
SUMMARY:Magician
END:VEVENT
END:VCALENDAR
