BEGIN:VCALENDAR
VERSION:2.0
PRODID:-//www.ketchikanarts.org//NONSGML kigkonsult.se iCalcreator 2.30.10/
 /
CALSCALE:GREGORIAN
METHOD:PUBLISH
UID:aca3f56c-fa87-498a-a112-4d1d32bfd75f
X-WR-CALDESC:Four young sisters rocking out to some great tunes! Join them 
 at the Creek Street Cabaret!
X-WR-RELCALID:c48b8a472fd141e4e9523bb6d8b284aa
X-WR-TIMEZONE:America/Anchorage
BEGIN:VTIMEZONE
TZID:America/Anchorage
BEGIN:STANDARD
TZNAME:AKST
DTSTART:20181104T020000
TZOFFSETFROM:-0800
TZOFFSETTO:-0900
RDATE:20191103T020000
RDATE:20201101T020000
END:STANDARD
BEGIN:DAYLIGHT
TZNAME:AKDT
DTSTART:20190310T020000
TZOFFSETFROM:-0900
TZOFFSETTO:-0800
RDATE:20200308T020000
END:DAYLIGHT
END:VTIMEZONE
BEGIN:VEVENT
UID:31495922-e3b9-413d-83d5-441d8bdb6f41
DTSTAMP:20260422T155212Z
DESCRIPTION:Four young sisters rocking out to some great tunes! Join them a
 t the Creek Street Cabaret!
DTSTART;TZID=America/Anchorage:20190622T190000
DTEND;TZID=America/Anchorage:20190622T200000
LOCATION:Creek Street Cabaret
SUMMARY:The Compass Roses
END:VEVENT
END:VCALENDAR
