BEGIN:VCALENDAR
VERSION:2.0
PRODID:-//www.ketchikanarts.org//NONSGML kigkonsult.se iCalcreator 2.30.10/
 /
CALSCALE:GREGORIAN
METHOD:PUBLISH
UID:d38fc5f9-4222-4946-a241-571334f8b180
X-WR-CALDESC:A fun and FUNKY Dance Party for Solstice!\n10$ Cover at the do
 or. Two fun Wacky bands\, K-Funk and Woody's Finest Hour!
X-WR-RELCALID:dc87430ae76f2614004fdd1903f8fc73
X-WR-TIMEZONE:America/Anchorage
BEGIN:VTIMEZONE
TZID:America/Anchorage
BEGIN:STANDARD
TZNAME:AKST
DTSTART:20181104T020000
TZOFFSETFROM:-0800
TZOFFSETTO:-0900
RDATE:20191103T020000
RDATE:20201101T020000
END:STANDARD
BEGIN:DAYLIGHT
TZNAME:AKDT
DTSTART:20190310T020000
TZOFFSETFROM:-0900
TZOFFSETTO:-0800
RDATE:20200308T020000
END:DAYLIGHT
END:VTIMEZONE
BEGIN:VEVENT
UID:3402feef-8c38-4d18-bb39-e7fe29cec09f
DTSTAMP:20260422T155058Z
DESCRIPTION:A fun and FUNKY Dance Party for Solstice!\n10$ Cover at the doo
 r. Two fun Wacky bands\, K-Funk and Woody's Finest Hour!
DTSTART;TZID=America/Anchorage:20190621T200000
DTEND;TZID=America/Anchorage:20190621T230000
LOCATION:Creek Street Cabaret
SUMMARY:Solstice Dance Party
END:VEVENT
END:VCALENDAR
