BEGIN:VCALENDAR
VERSION:2.0
PRODID:-//www.ketchikanarts.org//NONSGML kigkonsult.se iCalcreator 2.30.10/
 /
CALSCALE:GREGORIAN
METHOD:PUBLISH
UID:994bbe11-ff79-4c09-a7fd-89cd1e69e2fa
X-WR-CALDESC:Join First City Players for the hilarious comedy 'Calendar Gir
 ls'. Tickets Adults $25\, Students/Seniors and Military $20
X-WR-RELCALID:f28831bf64bd95e69e455aa292cafb88
X-WR-TIMEZONE:America/Anchorage
BEGIN:VTIMEZONE
TZID:America/Anchorage
BEGIN:STANDARD
TZNAME:AKST
DTSTART:20181104T020000
TZOFFSETFROM:-0800
TZOFFSETTO:-0900
RDATE:20191103T020000
RDATE:20201101T020000
END:STANDARD
BEGIN:DAYLIGHT
TZNAME:AKDT
DTSTART:20190310T020000
TZOFFSETFROM:-0900
TZOFFSETTO:-0800
RDATE:20200308T020000
END:DAYLIGHT
END:VTIMEZONE
BEGIN:VEVENT
UID:6569758d-49ff-4b41-aee8-aa51ee58cbe1
DTSTAMP:20260422T160116Z
DESCRIPTION:Join First City Players for the hilarious comedy 'Calendar Girl
 s'. Tickets Adults $25\, Students/Seniors and Military $20
DTSTART;TZID=America/Anchorage:20190621T193000
DTEND;TZID=America/Anchorage:20190621T213000
LOCATION:Kayhi Auditorium
SUMMARY:First City Players - 'Calendar Girls'
END:VEVENT
END:VCALENDAR
