BEGIN:VCALENDAR
VERSION:2.0
PRODID:-//www.ketchikanarts.org//NONSGML kigkonsult.se iCalcreator 2.30.10/
 /
CALSCALE:GREGORIAN
METHOD:PUBLISH
UID:862b4887-e57c-4a93-90b8-dffbb14c9485
X-WR-CALDESC:The Austin Hays Trio perform Jazz in the morning! Sometimes th
 ey are joined by drop-in musicians who work on the Cruise Ships.
X-WR-RELCALID:7457d7eee10ade374221ea25cbc58dd6
X-WR-TIMEZONE:America/Anchorage
BEGIN:VTIMEZONE
TZID:America/Anchorage
BEGIN:STANDARD
TZNAME:AKST
DTSTART:20181104T020000
TZOFFSETFROM:-0800
TZOFFSETTO:-0900
RDATE:20191103T020000
RDATE:20201101T020000
END:STANDARD
BEGIN:DAYLIGHT
TZNAME:AKDT
DTSTART:20190310T020000
TZOFFSETFROM:-0900
TZOFFSETTO:-0800
RDATE:20200308T020000
END:DAYLIGHT
END:VTIMEZONE
BEGIN:VEVENT
UID:20bb64a3-355e-4ffe-8e1f-3ef42df9b0d4
DTSTAMP:20260422T161234Z
DESCRIPTION:The Austin Hays Trio perform Jazz in the morning! Sometimes the
 y are joined by drop-in musicians who work on the Cruise Ships.
DTSTART;TZID=America/Anchorage:20190620T093000
DTEND;TZID=America/Anchorage:20190620T113000
LOCATION:Creek Street Cabaret
SUMMARY:Austin Hays Trio
END:VEVENT
END:VCALENDAR
