BEGIN:VCALENDAR
VERSION:2.0
PRODID:-//www.ketchikanarts.org//NONSGML kigkonsult.se iCalcreator 2.30.10/
 /
CALSCALE:GREGORIAN
METHOD:PUBLISH
UID:c513b740-833c-4f10-8f30-5b8f55a413c5
X-WR-CALDESC:Find out the entire season of plays and events!
X-WR-RELCALID:3d9514344eb576d9c6fbab2af5c75f5a
X-WR-TIMEZONE:America/Anchorage
BEGIN:VTIMEZONE
TZID:America/Anchorage
BEGIN:STANDARD
TZNAME:AKST
DTSTART:20181104T020000
TZOFFSETFROM:-0800
TZOFFSETTO:-0900
RDATE:20191103T020000
RDATE:20201101T020000
END:STANDARD
BEGIN:DAYLIGHT
TZNAME:AKDT
DTSTART:20190310T020000
TZOFFSETFROM:-0900
TZOFFSETTO:-0800
RDATE:20200308T020000
END:DAYLIGHT
END:VTIMEZONE
BEGIN:VEVENT
UID:e02c2706-25ad-46f3-a088-9b5557ea2db5
DTSTAMP:20260422T155710Z
DESCRIPTION:Find out the entire season of plays and events!
DTSTART;TZID=America/Anchorage:20190619T173000
DTEND;TZID=America/Anchorage:20190619T193000
LOCATION:First City Players Office
SUMMARY:FCP Season Reveal Party
END:VEVENT
END:VCALENDAR
