BEGIN:VCALENDAR
VERSION:2.0
PRODID:-//www.ketchikanarts.org//NONSGML kigkonsult.se iCalcreator 2.30.10/
 /
CALSCALE:GREGORIAN
METHOD:PUBLISH
UID:c0716b12-cb4c-4f13-b22b-aadfaaf8ce4b
X-WR-CALDESC:Join Rebecca Bowlen at 5:30 p.m. at the Ketchikan Public Libra
 ry for “Verse via the Natural World\,” a free course!\n\nHere’s a brief ov
 erview:\n\nLiving in Southeast Alaska has its challenges\, however\, not m
 any places can compete with the natural splendor waiting just outside our 
 front doors.  We often take for granted this beautiful place we call home\
 , and it isn’t until we take a momentary breath do we remember how lucky w
 e are to live in this rain forest environment.  Whatever your writing genr
 e — be it poetry\, fiction\, nonfiction\, journaling\, or essays – this wo
 rkshop will provide the opportunity to write about the great outdoors that
  surround us.  Writers of all genres and abilities are invited to attend t
 his summer’s writing workshops.  Whether you are a seasoned writer looking
  for new inspiration or a beginner looking for guidance\, this is the plac
 e for you!
X-WR-RELCALID:8d603c3cf4191a13e75f0f5e0f79c19b
X-WR-TIMEZONE:America/Anchorage
BEGIN:VTIMEZONE
TZID:America/Anchorage
BEGIN:STANDARD
TZNAME:AKST
DTSTART:20181104T020000
TZOFFSETFROM:-0800
TZOFFSETTO:-0900
RDATE:20191103T020000
RDATE:20201101T020000
END:STANDARD
BEGIN:DAYLIGHT
TZNAME:AKDT
DTSTART:20190310T020000
TZOFFSETFROM:-0900
TZOFFSETTO:-0800
RDATE:20200308T020000
END:DAYLIGHT
END:VTIMEZONE
BEGIN:VEVENT
UID:bfc3f733-24e5-468c-be9c-e4f270e9074c
DTSTAMP:20260422T155354Z
DESCRIPTION:Join Rebecca Bowlen at 5:30 p.m. at the Ketchikan Public Librar
 y for “Verse via the Natural World\,” a free course!\n\nHere’s a brief ove
 rview:\n\nLiving in Southeast Alaska has its challenges\, however\, not ma
 ny places can compete with the natural splendor waiting just outside our f
 ront doors.  We often take for granted this beautiful place we call home\,
  and it isn’t until we take a momentary breath do we remember how lucky we
  are to live in this rain forest environment.  Whatever your writing genre
  — be it poetry\, fiction\, nonfiction\, journaling\, or essays – this wor
 kshop will provide the opportunity to write about the great outdoors that 
 surround us.  Writers of all genres and abilities are invited to attend th
 is summer’s writing workshops.  Whether you are a seasoned writer looking 
 for new inspiration or a beginner looking for guidance\, this is the place
  for you!
DTSTART;TZID=America/Anchorage:20190617T173000
DTEND;TZID=America/Anchorage:20190617T193000
LOCATION:Ketchikan Public Library
SUMMARY:Ketchikan Writes: Nature Writing
END:VEVENT
END:VCALENDAR
