BEGIN:VCALENDAR
VERSION:2.0
PRODID:-//www.ketchikanarts.org//NONSGML kigkonsult.se iCalcreator 2.30.10/
 /
CALSCALE:GREGORIAN
METHOD:PUBLISH
UID:ad9d6dcf-e21b-4167-97a3-07e8b447f923
X-WR-CALDESC:City of Ketchikan Presents Music on the Dock!\n2019 Summer con
 cert series\nRain or shine bring a lunch and enjoy a noontime concert!!\nR
 ainy Days Berth 3 shelter\nSunny Days Berth 2
X-WR-RELCALID:87006e6be18775604d75e44b33c86425
X-WR-TIMEZONE:America/Anchorage
BEGIN:VTIMEZONE
TZID:America/Anchorage
BEGIN:STANDARD
TZNAME:AKST
DTSTART:20181104T020000
TZOFFSETFROM:-0800
TZOFFSETTO:-0900
RDATE:20191103T020000
RDATE:20201101T020000
END:STANDARD
BEGIN:DAYLIGHT
TZNAME:AKDT
DTSTART:20190310T020000
TZOFFSETFROM:-0900
TZOFFSETTO:-0800
RDATE:20200308T020000
END:DAYLIGHT
END:VTIMEZONE
BEGIN:VEVENT
UID:8988984a-f748-4901-bac6-f8191d0ecb3b
DTSTAMP:20260422T155642Z
DESCRIPTION:City of Ketchikan Presents Music on the Dock!\n2019 Summer conc
 ert series\nRain or shine bring a lunch and enjoy a noontime concert!!\nRa
 iny Days Berth 3 shelter\nSunny Days Berth 2
DTSTART;TZID=America/Anchorage:20190617T120000
DTEND;TZID=America/Anchorage:20190617T130000
LOCATION:Beerth 2 or Berth 3
SUMMARY:Classy Ladies - Music on the Dock
END:VEVENT
END:VCALENDAR
