BEGIN:VCALENDAR
VERSION:2.0
PRODID:-//www.ketchikanarts.org//NONSGML kigkonsult.se iCalcreator 2.30.10/
 /
CALSCALE:GREGORIAN
METHOD:PUBLISH
UID:5fb95e88-8cff-4fe3-b439-84cb97cd13f0
X-WR-CALDESC:Join teacher Evon Zerbetz as she goes over the fundamentals of
  Waltz. You do not need a partnet\, just bring your dancing shoes and a go
 od atitude!\nBeginers 6:00 - 7:00 pm\nNext level 7:00 - 8:00 pm\n$7 at the
  door
X-WR-RELCALID:03627927e0ee5feb510c209d1e71337a
X-WR-TIMEZONE:America/Anchorage
BEGIN:VTIMEZONE
TZID:America/Anchorage
BEGIN:STANDARD
TZNAME:AKST
DTSTART:20181104T020000
TZOFFSETFROM:-0800
TZOFFSETTO:-0900
RDATE:20191103T020000
RDATE:20201101T020000
END:STANDARD
BEGIN:DAYLIGHT
TZNAME:AKDT
DTSTART:20190310T020000
TZOFFSETFROM:-0900
TZOFFSETTO:-0800
RDATE:20200308T020000
END:DAYLIGHT
END:VTIMEZONE
BEGIN:VEVENT
UID:503a0514-8c73-4f8f-bb6e-0f353d340fb8
DTSTAMP:20260422T161234Z
DESCRIPTION:Join teacher Evon Zerbetz as she goes over the fundamentals of 
 Waltz. You do not need a partnet\, just bring your dancing shoes and a goo
 d atitude!\nBeginers 6:00 - 7:00 pm\nNext level 7:00 - 8:00 pm\n$7 at the 
 door
DTSTART;TZID=America/Anchorage:20190617T180000
DTEND;TZID=America/Anchorage:20190617T190000
LOCATION:Main Street Gallery
SUMMARY:BOOMbal Dance Hall
END:VEVENT
END:VCALENDAR
