BEGIN:VCALENDAR
VERSION:2.0
PRODID:-//www.ketchikanarts.org//NONSGML kigkonsult.se iCalcreator 2.30.10/
 /
CALSCALE:GREGORIAN
METHOD:PUBLISH
UID:1872ed4b-fcac-43c0-b0ff-7b6534341213
X-WR-CALDESC:Each week participants will discuss a short reading. Call 225-
 3331 for more information.
X-WR-RELCALID:3f1f0e65385af28629eaa164d1aaa33d
X-WR-TIMEZONE:America/Anchorage
BEGIN:VTIMEZONE
TZID:America/Anchorage
BEGIN:STANDARD
TZNAME:AKST
DTSTART:20181104T020000
TZOFFSETFROM:-0800
TZOFFSETTO:-0900
RDATE:20191103T020000
RDATE:20201101T020000
END:STANDARD
BEGIN:DAYLIGHT
TZNAME:AKDT
DTSTART:20190310T020000
TZOFFSETFROM:-0900
TZOFFSETTO:-0800
RDATE:20200308T020000
END:DAYLIGHT
END:VTIMEZONE
BEGIN:VEVENT
UID:b28a7f95-0130-4572-9138-d84c1f8fe935
DTSTAMP:20260422T155355Z
DESCRIPTION:Each week participants will discuss a short reading. Call 225-3
 331 for more information.
DTSTART;TZID=America/Anchorage:20190617T120000
DTEND;TZID=America/Anchorage:20190617T130000
LOCATION:Ketchikan Public Library
SUMMARY:Social Justice Reading Group
END:VEVENT
END:VCALENDAR
