BEGIN:VCALENDAR
VERSION:2.0
PRODID:-//www.ketchikanarts.org//NONSGML kigkonsult.se iCalcreator 2.30.10/
 /
CALSCALE:GREGORIAN
METHOD:PUBLISH
UID:316c14d5-3567-430b-9011-1f7f6045434e
X-WR-CALDESC:More fantastic information coming soon!!  But get your dancing
  shoes ready for a big night on the dance floor. The band is learning new 
 tunes and they'll be joined by Jillian Lindsay for a wonderful night!!! \n
 \nSwing Basics class from 7:15 to 7:55\n$5 at the door. \n\nMUSIC starts a
 t 8:00pm\n$5 at the door.
X-WR-RELCALID:948684ac82d738f1cb8867e4a817b1dc
X-WR-TIMEZONE:America/Anchorage
BEGIN:VTIMEZONE
TZID:America/Anchorage
BEGIN:STANDARD
TZNAME:AKST
DTSTART:20181104T020000
TZOFFSETFROM:-0800
TZOFFSETTO:-0900
RDATE:20191103T020000
RDATE:20201101T020000
END:STANDARD
BEGIN:DAYLIGHT
TZNAME:AKDT
DTSTART:20190310T020000
TZOFFSETFROM:-0900
TZOFFSETTO:-0800
RDATE:20200308T020000
END:DAYLIGHT
END:VTIMEZONE
BEGIN:VEVENT
UID:330116d4-0b60-42a8-8fb1-095252da58ac
DTSTAMP:20260422T161705Z
DESCRIPTION:More fantastic information coming soon!!  But get your dancing 
 shoes ready for a big night on the dance floor. The band is learning new t
 unes and they'll be joined by Jillian Lindsay for a wonderful night!!! \n
 \nSwing Basics class from 7:15 to 7:55\n$5 at the door. \n\nMUSIC starts a
 t 8:00pm\n$5 at the door.
DTSTART;TZID=America/Anchorage:20190615T190000
DTEND;TZID=America/Anchorage:20190615T220000
LOCATION:Creek Street Cabaret
SUMMARY:Swing Dance with BOOMbal and the Why Not dance Band
END:VEVENT
END:VCALENDAR
