BEGIN:VCALENDAR
VERSION:2.0
PRODID:-//www.ketchikanarts.org//NONSGML kigkonsult.se iCalcreator 2.30.10/
 /
CALSCALE:GREGORIAN
METHOD:PUBLISH
UID:9a3a3654-2832-40a9-8c60-9048aacc61a2
X-WR-CALDESC:A day of unity and fellowship enjoying bands on Berth 4 in Ket
 chikan\, Alaska. \n\nClick below for more information and tickets!\n\n$25 
 for tickets now\, $35 for tickets at the door!
X-WR-RELCALID:44fcddc35a7b1bdfbfcf420fb581eefd
X-WR-TIMEZONE:America/Anchorage
BEGIN:VTIMEZONE
TZID:America/Anchorage
BEGIN:STANDARD
TZNAME:AKST
DTSTART:20181104T020000
TZOFFSETFROM:-0800
TZOFFSETTO:-0900
RDATE:20191103T020000
RDATE:20201101T020000
END:STANDARD
BEGIN:DAYLIGHT
TZNAME:AKDT
DTSTART:20190310T020000
TZOFFSETFROM:-0900
TZOFFSETTO:-0800
RDATE:20200308T020000
END:DAYLIGHT
END:VTIMEZONE
BEGIN:VEVENT
UID:681a648d-354e-4679-a397-8a3a1ab8deaf
DTSTAMP:20260422T161827Z
DESCRIPTION:A day of unity and fellowship enjoying bands on Berth 4 in Ketc
 hikan\, Alaska. \n\nClick below for more information and tickets!\n\n$25 f
 or tickets now\, $35 for tickets at the door!
DTSTART;TZID=America/Anchorage:20190615T120000
DTEND;TZID=America/Anchorage:20190615T210000
LOCATION:Berth 4
SUMMARY:My Rock Festival 2.0
END:VEVENT
END:VCALENDAR
