BEGIN:VCALENDAR
VERSION:2.0
PRODID:-//www.ketchikanarts.org//NONSGML kigkonsult.se iCalcreator 2.30.10/
 /
CALSCALE:GREGORIAN
METHOD:PUBLISH
UID:ba4e74e0-1c28-4cd0-89fd-c897d69a058f
X-WR-CALDESC:All First-time Choreographers must attend the mandatory Choreo
 graphy Workshop\, June 15th\, 10:00 - 12:00 pm at KTB\n
X-WR-RELCALID:4911f36b061e5518ba4b218a555cc42b
X-WR-TIMEZONE:America/Anchorage
BEGIN:VTIMEZONE
TZID:America/Anchorage
BEGIN:STANDARD
TZNAME:AKST
DTSTART:20181104T020000
TZOFFSETFROM:-0800
TZOFFSETTO:-0900
RDATE:20191103T020000
RDATE:20201101T020000
END:STANDARD
BEGIN:DAYLIGHT
TZNAME:AKDT
DTSTART:20190310T020000
TZOFFSETFROM:-0900
TZOFFSETTO:-0800
RDATE:20200308T020000
END:DAYLIGHT
END:VTIMEZONE
BEGIN:VEVENT
UID:81bb3b79-97b5-464b-8d8f-919bef8a7c57
DTSTAMP:20260422T155427Z
DESCRIPTION:All First-time Choreographers must attend the mandatory Choreog
 raphy Workshop\, June 15th\, 10:00 - 12:00 pm at KTB\n
DTSTART;TZID=America/Anchorage:20190615T100000
DTEND;TZID=America/Anchorage:20190615T120000
LOCATION:Ketchikan Theater Ballet
SUMMARY:Gigglefeet Choreography Work Shop
END:VEVENT
END:VCALENDAR
