BEGIN:VCALENDAR
VERSION:2.0
PRODID:-//www.ketchikanarts.org//NONSGML kigkonsult.se iCalcreator 2.30.10/
 /
CALSCALE:GREGORIAN
METHOD:PUBLISH
UID:e148e2b5-135e-4777-9453-a56268ca0979
X-WR-CALDESC:City of Ketchikan Presents Music on the Dock!\n2019 Summer con
 cert series\nRain or shine bring a lunch and enjoy a noontime concert!!\nR
 ainy Days Berth 3 shelter\nSunny Days Berth 2
X-WR-RELCALID:d70f41027298381db781d38ae867798f
X-WR-TIMEZONE:America/Anchorage
BEGIN:VTIMEZONE
TZID:America/Anchorage
BEGIN:STANDARD
TZNAME:AKST
DTSTART:20181104T020000
TZOFFSETFROM:-0800
TZOFFSETTO:-0900
RDATE:20191103T020000
RDATE:20201101T020000
END:STANDARD
BEGIN:DAYLIGHT
TZNAME:AKDT
DTSTART:20190310T020000
TZOFFSETFROM:-0900
TZOFFSETTO:-0800
RDATE:20200308T020000
END:DAYLIGHT
END:VTIMEZONE
BEGIN:VEVENT
UID:2d215223-9230-464c-ba37-dc4da155e473
DTSTAMP:20260422T155844Z
DESCRIPTION:City of Ketchikan Presents Music on the Dock!\n2019 Summer conc
 ert series\nRain or shine bring a lunch and enjoy a noontime concert!!\nRa
 iny Days Berth 3 shelter\nSunny Days Berth 2
DTSTART;TZID=America/Anchorage:20190614T120000
DTEND;TZID=America/Anchorage:20190614T130000
LOCATION:Berth 2 or Berth 3
SUMMARY:Lallette's Broadway Favs - Music on the Dock
END:VEVENT
END:VCALENDAR
