BEGIN:VCALENDAR
VERSION:2.0
PRODID:-//www.ketchikanarts.org//NONSGML kigkonsult.se iCalcreator 2.30.10/
 /
CALSCALE:GREGORIAN
METHOD:PUBLISH
UID:13d5010a-8f5c-40bd-9632-05434f2495ca
X-WR-CALDESC:Join First City Players for the hilarious comedy 'Calendar Gir
 ls'. Tickets Adults $25\, Students/Seniors and Military $20
X-WR-RELCALID:7b2bb9e0145b348bd0049ba863c2499c
X-WR-TIMEZONE:America/Anchorage
BEGIN:VTIMEZONE
TZID:America/Anchorage
BEGIN:STANDARD
TZNAME:AKST
DTSTART:20181104T020000
TZOFFSETFROM:-0800
TZOFFSETTO:-0900
RDATE:20191103T020000
RDATE:20201101T020000
END:STANDARD
BEGIN:DAYLIGHT
TZNAME:AKDT
DTSTART:20190310T020000
TZOFFSETFROM:-0900
TZOFFSETTO:-0800
RDATE:20200308T020000
END:DAYLIGHT
END:VTIMEZONE
BEGIN:VEVENT
UID:bf06f5fa-40aa-494b-91bf-9a55dcff7ea7
DTSTAMP:20260422T160903Z
DESCRIPTION:Join First City Players for the hilarious comedy 'Calendar Girl
 s'. Tickets Adults $25\, Students/Seniors and Military $20
DTSTART;TZID=America/Anchorage:20190614T193000
DTEND;TZID=America/Anchorage:20190614T213000
LOCATION:Kayhi Auditorium
SUMMARY:First City Players - 'Calendar Girls'
END:VEVENT
END:VCALENDAR
