BEGIN:VCALENDAR
VERSION:2.0
PRODID:-//www.ketchikanarts.org//NONSGML kigkonsult.se iCalcreator 2.30.10/
 /
CALSCALE:GREGORIAN
METHOD:PUBLISH
UID:88861293-540e-4a82-a3c4-6f184e70b20a
X-WR-CALDESC:$5 at the door. Live tunes from the Free Radicals. See you the
 re folks! All dances taught\, no experience needed.
X-WR-RELCALID:93a540dcdb26f2c0675c34c55ae32cad
X-WR-TIMEZONE:America/Anchorage
BEGIN:VTIMEZONE
TZID:America/Anchorage
BEGIN:STANDARD
TZNAME:AKST
DTSTART:20181104T020000
TZOFFSETFROM:-0800
TZOFFSETTO:-0900
RDATE:20191103T020000
RDATE:20201101T020000
END:STANDARD
BEGIN:DAYLIGHT
TZNAME:AKDT
DTSTART:20190310T020000
TZOFFSETFROM:-0900
TZOFFSETTO:-0800
RDATE:20200308T020000
END:DAYLIGHT
END:VTIMEZONE
BEGIN:VEVENT
UID:f76ec33e-e728-40f0-9dfa-7490ebe24655
DTSTAMP:20260422T155213Z
DESCRIPTION:$5 at the door. Live tunes from the Free Radicals. See you ther
 e folks! All dances taught\, no experience needed.
DTSTART;TZID=America/Anchorage:20190614T190000
DTEND;TZID=America/Anchorage:20190614T210000
LOCATION:Creek Street Cabaret
SUMMARY:Alaska Square Dance
END:VEVENT
END:VCALENDAR
