BEGIN:VCALENDAR
VERSION:2.0
PRODID:-//www.ketchikanarts.org//NONSGML kigkonsult.se iCalcreator 2.30.10/
 /
CALSCALE:GREGORIAN
METHOD:PUBLISH
UID:87e7eea2-3fa9-477a-a672-c5f92b26e17f
X-WR-CALDESC:Join Austin Hays\, Chazz Gist\, and Kim Henrickson at the Cree
 k Street Cabaret for jazz in the morning. Often musicians from the cruise 
 ships will stop by for an awesome JAM. Definitely worth a stop-by to see w
 hat's happening!
X-WR-RELCALID:dcb101260d8c0b439c8a7d592b9fa9e9
X-WR-TIMEZONE:America/Anchorage
BEGIN:VTIMEZONE
TZID:America/Anchorage
BEGIN:STANDARD
TZNAME:AKST
DTSTART:20181104T020000
TZOFFSETFROM:-0800
TZOFFSETTO:-0900
RDATE:20191103T020000
RDATE:20201101T020000
END:STANDARD
BEGIN:DAYLIGHT
TZNAME:AKDT
DTSTART:20190310T020000
TZOFFSETFROM:-0900
TZOFFSETTO:-0800
RDATE:20200308T020000
END:DAYLIGHT
END:VTIMEZONE
BEGIN:VEVENT
UID:6397abd4-6906-4934-bc0d-b774171c9c07
DTSTAMP:20260422T155302Z
DESCRIPTION:Join Austin Hays\, Chazz Gist\, and Kim Henrickson at the Creek
  Street Cabaret for jazz in the morning. Often musicians from the cruise s
 hips will stop by for an awesome JAM. Definitely worth a stop-by to see wh
 at's happening!
DTSTART;TZID=America/Anchorage:20190610T093000
DTEND;TZID=America/Anchorage:20190610T113000
LOCATION:Creek Street Cabaret
SUMMARY:Austin Hays Trio
END:VEVENT
END:VCALENDAR
