BEGIN:VCALENDAR
VERSION:2.0
PRODID:-//www.ketchikanarts.org//NONSGML kigkonsult.se iCalcreator 2.30.10/
 /
CALSCALE:GREGORIAN
METHOD:PUBLISH
UID:60ce50ab-038e-4bbf-9609-470cc30ae39f
X-WR-CALDESC:Obvious Jazz\, Rob Holston\, plays every Sunday for Brunch at 
 the Salmon Falls Resort. Join him for a trip down memory lane with his tri
 butes to Frank Sinatra.
X-WR-RELCALID:fe7d36f5e1941367cd81b5ca275887fe
X-WR-TIMEZONE:America/Anchorage
BEGIN:VTIMEZONE
TZID:America/Anchorage
BEGIN:STANDARD
TZNAME:AKST
DTSTART:20181104T020000
TZOFFSETFROM:-0800
TZOFFSETTO:-0900
RDATE:20191103T020000
RDATE:20201101T020000
END:STANDARD
BEGIN:DAYLIGHT
TZNAME:AKDT
DTSTART:20190310T020000
TZOFFSETFROM:-0900
TZOFFSETTO:-0800
RDATE:20200308T020000
END:DAYLIGHT
END:VTIMEZONE
BEGIN:VEVENT
UID:d57dd806-7ef3-4eb3-9691-a99869b74321
DTSTAMP:20260422T155227Z
DESCRIPTION:Obvious Jazz\, Rob Holston\, plays every Sunday for Brunch at t
 he Salmon Falls Resort. Join him for a trip down memory lane with his trib
 utes to Frank Sinatra.
DTSTART;TZID=America/Anchorage:20190609T110000
DTEND;TZID=America/Anchorage:20190609T140000
LOCATION:Salmon Falls Resort
SUMMARY:Obvious Jazz performs!
END:VEVENT
END:VCALENDAR
