BEGIN:VCALENDAR
VERSION:2.0
PRODID:-//www.ketchikanarts.org//NONSGML kigkonsult.se iCalcreator 2.30.10/
 /
CALSCALE:GREGORIAN
METHOD:PUBLISH
UID:70434ac8-639e-4a5e-9c70-b830e69e4323
X-WR-CALDESC:Enjoy the Compass Roses at the Creek Street Cabaret. Support K
 etchikan's youngest home-grown rock band as they continue to grow and lear
 n their craft!!!
X-WR-RELCALID:a556dde4637c4cde9e36a6d899660634
X-WR-TIMEZONE:America/Anchorage
BEGIN:VTIMEZONE
TZID:America/Anchorage
BEGIN:STANDARD
TZNAME:AKST
DTSTART:20181104T020000
TZOFFSETFROM:-0800
TZOFFSETTO:-0900
RDATE:20191103T020000
RDATE:20201101T020000
END:STANDARD
BEGIN:DAYLIGHT
TZNAME:AKDT
DTSTART:20190310T020000
TZOFFSETFROM:-0900
TZOFFSETTO:-0800
RDATE:20200308T020000
END:DAYLIGHT
END:VTIMEZONE
BEGIN:VEVENT
UID:3a39013b-7b1c-4b9f-a33d-1ca7a98508fd
DTSTAMP:20260422T161918Z
DESCRIPTION:Enjoy the Compass Roses at the Creek Street Cabaret. Support Ke
 tchikan's youngest home-grown rock band as they continue to grow and learn
  their craft!!!
DTSTART;TZID=America/Anchorage:20190608T190000
DTEND;TZID=America/Anchorage:20190608T210000
LOCATION:Creek Street Cabaret
SUMMARY:Compass Roses at Creek Street Cabaret
END:VEVENT
END:VCALENDAR
