BEGIN:VCALENDAR
VERSION:2.0
PRODID:-//www.ketchikanarts.org//NONSGML kigkonsult.se iCalcreator 2.30.10/
 /
CALSCALE:GREGORIAN
METHOD:PUBLISH
UID:5852a5a9-67ea-4a96-809b-3c1d3b5244e7
X-WR-CALDESC:Join us for the Opening Reception of 'Artists of Ketchikan'. T
 his annual invitational exhibit features new works from established and em
 erging artists of Ketchikan.  Main Street Gallery openings are always the 
 first Friday of the month and are free and open to the public. \nExhibitin
 g artists include\, Hall Anderson\, Danelle Landis\, Julie Berg-Linville\,
  Jackie Jones Bailey\, Litzi Botello\, Lisa Doyon\, Grace Freeman\, Mike G
 ates\, Sharon Filyaw\, Rhonda Green\, Judy Magnuson\, Kelsey McNeil\, Terr
 i Metcalf\, Marva - Lee Otos\, Christy Ruby\, Anne Margaret Shuham\, Nancy
  Tietje\, and Felix Wong! 
X-WR-RELCALID:843238bb07fc8a081f74bec9632bd241
X-WR-TIMEZONE:America/Anchorage
BEGIN:VTIMEZONE
TZID:America/Anchorage
BEGIN:STANDARD
TZNAME:AKST
DTSTART:20181104T020000
TZOFFSETFROM:-0800
TZOFFSETTO:-0900
RDATE:20191103T020000
RDATE:20201101T020000
END:STANDARD
BEGIN:DAYLIGHT
TZNAME:AKDT
DTSTART:20190310T020000
TZOFFSETFROM:-0900
TZOFFSETTO:-0800
RDATE:20200308T020000
END:DAYLIGHT
END:VTIMEZONE
BEGIN:VEVENT
UID:a8fb2ef0-4649-4487-bad1-169faf0121ba
DTSTAMP:20260422T155831Z
DESCRIPTION:Join us for the Opening Reception of 'Artists of Ketchikan'. Th
 is annual invitational exhibit features new works from established and eme
 rging artists of Ketchikan.  Main Street Gallery openings are always the f
 irst Friday of the month and are free and open to the public. \nExhibiting
  artists include\, Hall Anderson\, Danelle Landis\, Julie Berg-Linville\, 
 Jackie Jones Bailey\, Litzi Botello\, Lisa Doyon\, Grace Freeman\, Mike Ga
 tes\, Sharon Filyaw\, Rhonda Green\, Judy Magnuson\, Kelsey McNeil\, Terri
  Metcalf\, Marva - Lee Otos\, Christy Ruby\, Anne Margaret Shuham\, Nancy 
 Tietje\, and Felix Wong! 
DTSTART;TZID=America/Anchorage:20190607T170000
DTEND;TZID=America/Anchorage:20190607T190000
LOCATION:Main Street Gallery
SUMMARY:Opening Reception - 'Artists of Ketchikan' Invitational Exhibit
END:VEVENT
END:VCALENDAR
