BEGIN:VCALENDAR
VERSION:2.0
PRODID:-//www.ketchikanarts.org//NONSGML kigkonsult.se iCalcreator 2.30.10/
 /
CALSCALE:GREGORIAN
METHOD:PUBLISH
UID:66587a4f-806b-4389-b03f-df9d7741e16a
X-WR-CALDESC:The city of Ketchikan Presents Music on the Dock! The 2019 Sum
 mer concert series\,\nrain or shine bring a lunch and enjoy a noontime con
 cert!! Free to the Public!\n12:00 - 1:00 pm Rainy days berth 3 shelter\, s
 unny days Berth 2. \n
X-WR-RELCALID:ef03540cb3928543fcff6b56995701c4
X-WR-TIMEZONE:America/Anchorage
BEGIN:VTIMEZONE
TZID:America/Anchorage
BEGIN:STANDARD
TZNAME:AKST
DTSTART:20181104T020000
TZOFFSETFROM:-0800
TZOFFSETTO:-0900
RDATE:20191103T020000
RDATE:20201101T020000
END:STANDARD
BEGIN:DAYLIGHT
TZNAME:AKDT
DTSTART:20190310T020000
TZOFFSETFROM:-0900
TZOFFSETTO:-0800
RDATE:20200308T020000
END:DAYLIGHT
END:VTIMEZONE
BEGIN:VEVENT
UID:8222de77-d8e2-46ec-9f57-252cf136a442
DTSTAMP:20260422T155215Z
DESCRIPTION:The city of Ketchikan Presents Music on the Dock! The 2019 Summ
 er concert series\,\nrain or shine bring a lunch and enjoy a noontime conc
 ert!! Free to the Public!\n12:00 - 1:00 pm Rainy days berth 3 shelter\, su
 nny days Berth 2. \n
DTSTART;TZID=America/Anchorage:20190607T120000
DTEND;TZID=America/Anchorage:20190607T130000
LOCATION:Berth 2 or Berth 3
SUMMARY:Cullen McCormick
END:VEVENT
END:VCALENDAR
