BEGIN:VCALENDAR
VERSION:2.0
PRODID:-//www.ketchikanarts.org//NONSGML kigkonsult.se iCalcreator 2.30.10/
 /
CALSCALE:GREGORIAN
METHOD:PUBLISH
UID:80612bb5-411d-4b30-aafb-adaad09aa2e0
X-WR-CALDESC:Join Taylor McKenna at 5:30 p.m. at the Ketchikan Public Libra
 ry for “From Snippets to Stage: Play Writing\,” a free course!\n\nHere’s a
  brief overview:\n\n“Two local poets were once commissioned to create a sc
 ript. They had two restrictions: a bed was the only set piece and the scri
 pt had to be about Ketchikan. Their final product\, Bedsheets\, became a F
 CP production\, and a performance piece in Juneau. In this playwriting wor
 kshop we will explore how you can transform a snippet of conversation\, a 
 specific locale\, or even a single piece of furniture into a script. You w
 ill also be able to work on and receive feedback for scripts that are in p
 rogress.”\n\nHope to see you there!
X-WR-RELCALID:3f7887875ae26cad932bf2b2d7d8790f
X-WR-TIMEZONE:America/Anchorage
BEGIN:VTIMEZONE
TZID:America/Anchorage
BEGIN:STANDARD
TZNAME:AKST
DTSTART:20181104T020000
TZOFFSETFROM:-0800
TZOFFSETTO:-0900
RDATE:20191103T020000
RDATE:20201101T020000
END:STANDARD
BEGIN:DAYLIGHT
TZNAME:AKDT
DTSTART:20190310T020000
TZOFFSETFROM:-0900
TZOFFSETTO:-0800
RDATE:20200308T020000
END:DAYLIGHT
END:VTIMEZONE
BEGIN:VEVENT
UID:5757cccc-63fa-47e1-97c3-d6b2cdde9ee6
DTSTAMP:20260422T155301Z
DESCRIPTION:Join Taylor McKenna at 5:30 p.m. at the Ketchikan Public Librar
 y for “From Snippets to Stage: Play Writing\,” a free course!\n\nHere’s a 
 brief overview:\n\n“Two local poets were once commissioned to create a scr
 ipt. They had two restrictions: a bed was the only set piece and the scrip
 t had to be about Ketchikan. Their final product\, Bedsheets\, became a FC
 P production\, and a performance piece in Juneau. In this playwriting work
 shop we will explore how you can transform a snippet of conversation\, a s
 pecific locale\, or even a single piece of furniture into a script. You wi
 ll also be able to work on and receive feedback for scripts that are in pr
 ogress.”\n\nHope to see you there!
DTSTART;TZID=America/Anchorage:20190605T173000
DTEND;TZID=America/Anchorage:20190605T193000
LOCATION:Ketchikan Public Library
SUMMARY:Ketchikan Writes: Play Writing
END:VEVENT
END:VCALENDAR
