BEGIN:VCALENDAR
VERSION:2.0
PRODID:-//www.ketchikanarts.org//NONSGML kigkonsult.se iCalcreator 2.30.10/
 /
CALSCALE:GREGORIAN
METHOD:PUBLISH
UID:69fa5610-2131-46c6-9755-bd0d684b5029
X-WR-CALDESC:City of Ketchikan Presents Music on the Dock! \n2019 Summer co
 ncert series\nRain or shine bring a lunch and enjoy a noontime concert!!\n
 Rainy Days Berth 3 shelter\nSunny Days Berth 2
X-WR-RELCALID:da611f4f7e44eac45633a9436f07e736
X-WR-TIMEZONE:America/Anchorage
BEGIN:VTIMEZONE
TZID:America/Anchorage
BEGIN:STANDARD
TZNAME:AKST
DTSTART:20181104T020000
TZOFFSETFROM:-0800
TZOFFSETTO:-0900
RDATE:20191103T020000
RDATE:20201101T020000
END:STANDARD
BEGIN:DAYLIGHT
TZNAME:AKDT
DTSTART:20190310T020000
TZOFFSETFROM:-0900
TZOFFSETTO:-0800
RDATE:20200308T020000
END:DAYLIGHT
END:VTIMEZONE
BEGIN:VEVENT
UID:2c908b76-0654-49e9-9d28-7971938b6956
DTSTAMP:20260422T161917Z
DESCRIPTION:City of Ketchikan Presents Music on the Dock! \n2019 Summer con
 cert series\nRain or shine bring a lunch and enjoy a noontime concert!!\nR
 ainy Days Berth 3 shelter\nSunny Days Berth 2
DTSTART;TZID=America/Anchorage:20190603T120000
DTEND;TZID=America/Anchorage:20190603T130000
LOCATION:Berth 2 or Berth 3
SUMMARY:Scattered Sunshine Trombone Choir - Music on the Dock
END:VEVENT
END:VCALENDAR
