BEGIN:VCALENDAR
VERSION:2.0
PRODID:-//www.ketchikanarts.org//NONSGML kigkonsult.se iCalcreator 2.30.10/
 /
CALSCALE:GREGORIAN
METHOD:PUBLISH
UID:e4708b2d-5e50-4d22-ab23-65055763b4d1
X-WR-CALDESC:Returning Vendors have until June 3rd to retain their Blueberr
 y Booth location. Applications will be excepted and booth numbers will be 
 assigned on a first come first serve bases until June  ____
X-WR-RELCALID:c3bc749f1502faea698d8232ac19840c
X-WR-TIMEZONE:America/Anchorage
BEGIN:VTIMEZONE
TZID:America/Anchorage
BEGIN:STANDARD
TZNAME:AKST
DTSTART:20181104T020000
TZOFFSETFROM:-0800
TZOFFSETTO:-0900
RDATE:20191103T020000
RDATE:20201101T020000
END:STANDARD
BEGIN:DAYLIGHT
TZNAME:AKDT
DTSTART:20190310T020000
TZOFFSETFROM:-0900
TZOFFSETTO:-0800
RDATE:20200308T020000
END:DAYLIGHT
END:VTIMEZONE
BEGIN:VEVENT
UID:afcb5856-799e-4ab6-9586-0d532887391e
DTSTAMP:20260422T155237Z
DESCRIPTION:Returning Vendors have until June 3rd to retain their Blueberry
  Booth location. Applications will be excepted and booth numbers will be a
 ssigned on a first come first serve bases until June  ____
DTSTART;TZID=America/Anchorage:20190603T090000
DTEND;TZID=America/Anchorage:20190603T170000
LOCATION:Main Street Gallery
SUMMARY:Blueberry Booth Application Returning Vendor Deadline
END:VEVENT
END:VCALENDAR
