BEGIN:VCALENDAR
VERSION:2.0
PRODID:-//www.ketchikanarts.org//NONSGML kigkonsult.se iCalcreator 2.30.10/
 /
CALSCALE:GREGORIAN
METHOD:PUBLISH
UID:a6645ccc-84eb-4bd6-919f-5cee51a787d7
X-WR-CALDESC:For Educators! Two week intensive. Participants will be immers
 ed in integrating the art of storytelling into curriculum and instruction\
 , with drama\, music\, movement/dance\, traditional cultural arts\, and me
 dia arts. Four graduate credits available!  $495.00 Scholarships available
X-WR-RELCALID:427a15163fd704ebe76289a50cb564b6
X-WR-TIMEZONE:America/Anchorage
BEGIN:VTIMEZONE
TZID:America/Anchorage
BEGIN:STANDARD
TZNAME:AKST
DTSTART:20181104T020000
TZOFFSETFROM:-0800
TZOFFSETTO:-0900
RDATE:20191103T020000
RDATE:20201101T020000
END:STANDARD
BEGIN:DAYLIGHT
TZNAME:AKDT
DTSTART:20190310T020000
TZOFFSETFROM:-0900
TZOFFSETTO:-0800
RDATE:20200308T020000
END:DAYLIGHT
END:VTIMEZONE
BEGIN:VEVENT
UID:c208f0b1-3279-414e-91c8-496934881ef9
DTSTAMP:20260422T155304Z
DESCRIPTION:For Educators! Two week intensive. Participants will be immerse
 d in integrating the art of storytelling into curriculum and instruction\,
  with drama\, music\, movement/dance\, traditional cultural arts\, and med
 ia arts. Four graduate credits available!  $495.00 Scholarships available
DTSTART;TZID=America/Anchorage:20190603T000000
DTEND;TZID=America/Anchorage:20190614T235900
LOCATION:In Ketchikan
SUMMARY:Amplifying Stories through the Arts
END:VEVENT
END:VCALENDAR
