BEGIN:VCALENDAR
VERSION:2.0
PRODID:-//www.ketchikanarts.org//NONSGML kigkonsult.se iCalcreator 2.30.10/
 /
CALSCALE:GREGORIAN
METHOD:PUBLISH
UID:0c19585d-4117-46bc-8208-1ebd3b93b260
X-WR-CALDESC:Free Manga Drawing Class with instructor Ema Oshima. Supplies 
 provided. Call 225-3331 for more information.
X-WR-RELCALID:989233b28a1a6d913e6da1169cca9ce5
X-WR-TIMEZONE:America/Anchorage
BEGIN:VTIMEZONE
TZID:America/Anchorage
BEGIN:STANDARD
TZNAME:AKST
DTSTART:20181104T020000
TZOFFSETFROM:-0800
TZOFFSETTO:-0900
RDATE:20191103T020000
RDATE:20201101T020000
END:STANDARD
BEGIN:DAYLIGHT
TZNAME:AKDT
DTSTART:20190310T020000
TZOFFSETFROM:-0900
TZOFFSETTO:-0800
RDATE:20200308T020000
END:DAYLIGHT
END:VTIMEZONE
BEGIN:VEVENT
UID:8ac89bee-32c4-4a50-9ac9-5b99e4198f5e
DTSTAMP:20260422T155732Z
DESCRIPTION:Free Manga Drawing Class with instructor Ema Oshima. Supplies p
 rovided. Call 225-3331 for more information.
DTSTART;TZID=America/Anchorage:20190603T163000
DTEND;TZID=America/Anchorage:20190603T173000
LOCATION:Ketchikan Public Library
SUMMARY:Manga Drawing Class Adult
END:VEVENT
END:VCALENDAR
