BEGIN:VCALENDAR
VERSION:2.0
PRODID:-//www.ketchikanarts.org//NONSGML kigkonsult.se iCalcreator 2.30.10/
 /
CALSCALE:GREGORIAN
METHOD:PUBLISH
UID:d055ab02-003a-4af8-b030-322e511b5be2
X-WR-CALDESC:Obvious Jazz\, Rob Holston\, plays every Sunday for Brunch at 
 the Salmon Falls Resort. Join him for a trip down memory lane with his tri
 butes to Frank Sinatra.
X-WR-RELCALID:f0da165f82ac118964fd774883a47df4
X-WR-TIMEZONE:America/Anchorage
BEGIN:VTIMEZONE
TZID:America/Anchorage
BEGIN:STANDARD
TZNAME:AKST
DTSTART:20181104T020000
TZOFFSETFROM:-0800
TZOFFSETTO:-0900
RDATE:20191103T020000
RDATE:20201101T020000
END:STANDARD
BEGIN:DAYLIGHT
TZNAME:AKDT
DTSTART:20190310T020000
TZOFFSETFROM:-0900
TZOFFSETTO:-0800
RDATE:20200308T020000
END:DAYLIGHT
END:VTIMEZONE
BEGIN:VEVENT
UID:379dab88-b8e7-47e2-b0f7-c64005e57786
DTSTAMP:20260422T155234Z
DESCRIPTION:Obvious Jazz\, Rob Holston\, plays every Sunday for Brunch at t
 he Salmon Falls Resort. Join him for a trip down memory lane with his trib
 utes to Frank Sinatra.
DTSTART;TZID=America/Anchorage:20190602T110000
DTEND;TZID=America/Anchorage:20190602T140000
LOCATION:Salmon Falls Resort
SUMMARY:Obvious Jazz performs!
END:VEVENT
END:VCALENDAR
