BEGIN:VCALENDAR
VERSION:2.0
PRODID:-//www.ketchikanarts.org//NONSGML kigkonsult.se iCalcreator 2.30.10/
 /
CALSCALE:GREGORIAN
METHOD:PUBLISH
UID:c635cc36-76c3-4303-a503-cbaa2c4b9a48
X-WR-CALDESC:The second Music on the dock!! Come rock gently with the Stait
  sisters.
X-WR-RELCALID:c98c66816042c51e9eed8e0c9e37f7be
X-WR-TIMEZONE:America/Anchorage
BEGIN:VTIMEZONE
TZID:America/Anchorage
BEGIN:STANDARD
TZNAME:AKST
DTSTART:20181104T020000
TZOFFSETFROM:-0800
TZOFFSETTO:-0900
RDATE:20191103T020000
RDATE:20201101T020000
END:STANDARD
BEGIN:DAYLIGHT
TZNAME:AKDT
DTSTART:20190310T020000
TZOFFSETFROM:-0900
TZOFFSETTO:-0800
RDATE:20200308T020000
END:DAYLIGHT
END:VTIMEZONE
BEGIN:VEVENT
UID:cdd25d36-55cd-4f47-b144-12e19b0cfd74
DTSTAMP:20260422T173259Z
DESCRIPTION:The second Music on the dock!! Come rock gently with the Stait 
 sisters.
DTSTART;TZID=America/Anchorage:20190531T120000
DTEND;TZID=America/Anchorage:20190531T130000
LOCATION:Berth 2 or Berth 3
SUMMARY:The Compass Roses - Music on the Dock
END:VEVENT
END:VCALENDAR
