BEGIN:VCALENDAR
VERSION:2.0
PRODID:-//www.ketchikanarts.org//NONSGML kigkonsult.se iCalcreator 2.30.10/
 /
CALSCALE:GREGORIAN
METHOD:PUBLISH
UID:ef996e12-b4f1-465a-b9a7-440a0aa514f6
X-WR-CALDESC:The very first Music on the Dock Concert of the Season!! Join 
 us at at Berth 2 if it is sunny\, Berth 3 if it is raining\, to support th
 e Schoenbar Middle School Music Program!!!
X-WR-RELCALID:218e5981d2c77f19e021763bd548adf0
X-WR-TIMEZONE:America/Anchorage
BEGIN:VTIMEZONE
TZID:America/Anchorage
BEGIN:STANDARD
TZNAME:AKST
DTSTART:20181104T020000
TZOFFSETFROM:-0800
TZOFFSETTO:-0900
RDATE:20191103T020000
RDATE:20201101T020000
END:STANDARD
BEGIN:DAYLIGHT
TZNAME:AKDT
DTSTART:20190310T020000
TZOFFSETFROM:-0900
TZOFFSETTO:-0800
RDATE:20200308T020000
END:DAYLIGHT
END:VTIMEZONE
BEGIN:VEVENT
UID:df987bc4-bd8f-4c44-87f9-4f8163cc6cbe
DTSTAMP:20260422T173741Z
DESCRIPTION:The very first Music on the Dock Concert of the Season!! Join u
 s at at Berth 2 if it is sunny\, Berth 3 if it is raining\, to support the
  Schoenbar Middle School Music Program!!!
DTSTART;TZID=America/Anchorage:20190528T120000
DTEND;TZID=America/Anchorage:20190528T130000
LOCATION:Berth 2 or Berth 3
SUMMARY:Schoenbar Middle School Band and Choir - Music on the Dock
END:VEVENT
END:VCALENDAR
