BEGIN:VCALENDAR
VERSION:2.0
PRODID:-//www.ketchikanarts.org//NONSGML kigkonsult.se iCalcreator 2.30.10/
 /
CALSCALE:GREGORIAN
METHOD:PUBLISH
UID:0a894fd7-58aa-4611-8cd4-0a761e60d1e2
X-WR-CALDESC:Live Day on KRBD is awesome! Musicians from all corners of the
  island play live on the radio for an entire day. Where else but in Ketchi
 kan could this happen?
X-WR-RELCALID:525ffa1f20983da7b46e9ad8ad87fafd
X-WR-TIMEZONE:America/Anchorage
BEGIN:VTIMEZONE
TZID:America/Anchorage
BEGIN:STANDARD
TZNAME:AKST
DTSTART:20181104T020000
TZOFFSETFROM:-0800
TZOFFSETTO:-0900
RDATE:20191103T020000
RDATE:20201101T020000
END:STANDARD
BEGIN:DAYLIGHT
TZNAME:AKDT
DTSTART:20190310T020000
TZOFFSETFROM:-0900
TZOFFSETTO:-0800
RDATE:20200308T020000
END:DAYLIGHT
END:VTIMEZONE
BEGIN:VEVENT
UID:50c9dcbd-869e-4525-8aa7-de853da4f916
DTSTAMP:20260422T173101Z
DESCRIPTION:Live Day on KRBD is awesome! Musicians from all corners of the 
 island play live on the radio for an entire day. Where else but in Ketchik
 an could this happen?
DTSTART;TZID=America/Anchorage:20190525T120000
DTEND;TZID=America/Anchorage:20190525T170000
LOCATION:Over the air waves!
SUMMARY:KRBD - Live Day!!
END:VEVENT
END:VCALENDAR
