BEGIN:VCALENDAR
VERSION:2.0
PRODID:-//www.ketchikanarts.org//NONSGML kigkonsult.se iCalcreator 2.30.10/
 /
CALSCALE:GREGORIAN
METHOD:PUBLISH
UID:c27e2a4a-9b0f-4ab1-899c-f2cf6d419a6a
X-WR-CALDESC:
X-WR-RELCALID:8b4ac1e9c147f6be07a07ad0c341039c
X-WR-TIMEZONE:America/Anchorage
BEGIN:VTIMEZONE
TZID:America/Anchorage
BEGIN:STANDARD
TZNAME:AKST
DTSTART:20181104T020000
TZOFFSETFROM:-0800
TZOFFSETTO:-0900
RDATE:20191103T020000
RDATE:20201101T020000
END:STANDARD
BEGIN:DAYLIGHT
TZNAME:AKDT
DTSTART:20190310T020000
TZOFFSETFROM:-0900
TZOFFSETTO:-0800
RDATE:20200308T020000
END:DAYLIGHT
END:VTIMEZONE
BEGIN:VEVENT
UID:09c46477-a7e2-4b75-a5bb-a5b2c4d449a4
DTSTAMP:20260422T173057Z
DESCRIPTION:
DTSTART;TZID=America/Anchorage:20190524T190000
DTEND;TZID=America/Anchorage:20190524T220000
LOCATION:Creek Street Cabaret
SUMMARY:Billy Joel Tribute
END:VEVENT
END:VCALENDAR
