BEGIN:VCALENDAR
VERSION:2.0
PRODID:-//www.ketchikanarts.org//NONSGML kigkonsult.se iCalcreator 2.30.10/
 /
CALSCALE:GREGORIAN
METHOD:PUBLISH
UID:03c61d69-8043-4344-8162-52e093dd539e
X-WR-CALDESC:Dave Rubin\, guitar\, Hannah Karrick\, violin\, and Chazz Gist
 \, bass\, play every Friday night at the New York Cafe for your listening 
 pleasure.
X-WR-RELCALID:5693389b114ebbe7618d540afccec46a
X-WR-TIMEZONE:America/Anchorage
BEGIN:VTIMEZONE
TZID:America/Anchorage
BEGIN:STANDARD
TZNAME:AKST
DTSTART:20181104T020000
TZOFFSETFROM:-0800
TZOFFSETTO:-0900
RDATE:20191103T020000
RDATE:20201101T020000
END:STANDARD
BEGIN:DAYLIGHT
TZNAME:AKDT
DTSTART:20190310T020000
TZOFFSETFROM:-0900
TZOFFSETTO:-0800
RDATE:20200308T020000
END:DAYLIGHT
END:VTIMEZONE
BEGIN:VEVENT
UID:996e9df7-2711-4c4a-b485-e2c4f0d512b7
DTSTAMP:20260422T173413Z
DESCRIPTION:Dave Rubin\, guitar\, Hannah Karrick\, violin\, and Chazz Gist\
 , bass\, play every Friday night at the New York Cafe for your listening p
 leasure.
DTSTART;TZID=America/Anchorage:20190524T190000
DTEND;TZID=America/Anchorage:20190524T210000
LOCATION:New York Cafe
SUMMARY:Dave\, Hannah\, and Chazz
END:VEVENT
END:VCALENDAR
